BEGIN:VCALENDAR
VERSION:2.0
PRODID:-//Chesterfield GOP - ECPv6.15.20//NONSGML v1.0//EN
CALSCALE:GREGORIAN
METHOD:PUBLISH
X-WR-CALNAME:Chesterfield GOP
X-ORIGINAL-URL:https://chesterfieldgop.com
X-WR-CALDESC:Events for Chesterfield GOP
REFRESH-INTERVAL;VALUE=DURATION:PT1H
X-Robots-Tag:noindex
X-PUBLISHED-TTL:PT1H
BEGIN:VTIMEZONE
TZID:America/New_York
BEGIN:DAYLIGHT
TZOFFSETFROM:-0500
TZOFFSETTO:-0400
TZNAME:EDT
DTSTART:20170312T070000
END:DAYLIGHT
BEGIN:STANDARD
TZOFFSETFROM:-0400
TZOFFSETTO:-0500
TZNAME:EST
DTSTART:20171105T060000
END:STANDARD
BEGIN:DAYLIGHT
TZOFFSETFROM:-0500
TZOFFSETTO:-0400
TZNAME:EDT
DTSTART:20180311T070000
END:DAYLIGHT
BEGIN:STANDARD
TZOFFSETFROM:-0400
TZOFFSETTO:-0500
TZNAME:EST
DTSTART:20181104T060000
END:STANDARD
BEGIN:DAYLIGHT
TZOFFSETFROM:-0500
TZOFFSETTO:-0400
TZNAME:EDT
DTSTART:20190310T070000
END:DAYLIGHT
BEGIN:STANDARD
TZOFFSETFROM:-0400
TZOFFSETTO:-0500
TZNAME:EST
DTSTART:20191103T060000
END:STANDARD
END:VTIMEZONE
BEGIN:VEVENT
DTSTART;TZID=America/New_York:20180430T190000
DTEND;TZID=America/New_York:20180430T203000
DTSTAMP:20260423T223040
CREATED:20180422T065948Z
LAST-MODIFIED:20250330T071508Z
UID:286-1525114800-1525120200@chesterfieldgop.com
SUMMARY:Regular Business Meeting - April 30th 2018
DESCRIPTION:Regular Business April Meeting\n  \nMonday\, April 30\, 2018 \n6:30 PM Reception\n7:00 PM Business Meeting \nManchester Middle School\n7401 Hull Street Road\nRichmond\, VA 23235
URL:https://chesterfieldgop.com/event/regular-business-meeting-april-30th-2018/
LOCATION:Manchester Middle School (7401 Hull Street Road)\, 7401 Hull Street Road\, Richmond\, VA\, 23235\, United States
CATEGORIES:Regular Meeting
ATTACH;FMTTYPE=image/jpeg:https://chesterfieldgop.com/wp-content/uploads/2018/04/manchester-middle-school.jpg
END:VEVENT
END:VCALENDAR