BEGIN:VCALENDAR
VERSION:2.0
PRODID:-//Chesterfield GOP - ECPv6.15.20//NONSGML v1.0//EN
CALSCALE:GREGORIAN
METHOD:PUBLISH
X-WR-CALNAME:Chesterfield GOP
X-ORIGINAL-URL:https://chesterfieldgop.com
X-WR-CALDESC:Events for Chesterfield GOP
REFRESH-INTERVAL;VALUE=DURATION:PT1H
X-Robots-Tag:noindex
X-PUBLISHED-TTL:PT1H
BEGIN:VTIMEZONE
TZID:America/New_York
BEGIN:DAYLIGHT
TZOFFSETFROM:-0500
TZOFFSETTO:-0400
TZNAME:EDT
DTSTART:20170312T070000
END:DAYLIGHT
BEGIN:STANDARD
TZOFFSETFROM:-0400
TZOFFSETTO:-0500
TZNAME:EST
DTSTART:20171105T060000
END:STANDARD
BEGIN:DAYLIGHT
TZOFFSETFROM:-0500
TZOFFSETTO:-0400
TZNAME:EDT
DTSTART:20180311T070000
END:DAYLIGHT
BEGIN:STANDARD
TZOFFSETFROM:-0400
TZOFFSETTO:-0500
TZNAME:EST
DTSTART:20181104T060000
END:STANDARD
BEGIN:DAYLIGHT
TZOFFSETFROM:-0500
TZOFFSETTO:-0400
TZNAME:EDT
DTSTART:20190310T070000
END:DAYLIGHT
BEGIN:STANDARD
TZOFFSETFROM:-0400
TZOFFSETTO:-0500
TZNAME:EST
DTSTART:20191103T060000
END:STANDARD
END:VTIMEZONE
BEGIN:VEVENT
DTSTART;TZID=America/New_York:20180512T090000
DTEND;TZID=America/New_York:20180512T120000
DTSTAMP:20260423T195705
CREATED:20180422T072211Z
LAST-MODIFIED:20250330T071505Z
UID:291-1526115600-1526126400@chesterfieldgop.com
SUMMARY:Bon Air Historical Society Annual Victorian Day Parade
DESCRIPTION:Bon Air Historical Society\nAnnual Victorian Day Parade\nSaturday\, May 12\, 2018\nRoute: \nBegins @ Bon Air Baptist Church (2531 Buford Rd.) and travels ½ mile East to Bon Air Christian Church. Parade disbands at Rockaway & Logan Streets. \nParade Start: \n11:00 AM \nBegin line-up at 9:00 AM \nPlease ENTER FROM the FOREST HILL AVE. side of Bon Air Baptist Church. \nNon parade vehicles will park on the Forest Hill Ave. side of the parking lot. \nMust arrive no later than 10 AM SHARP! \nPolice will shut down Buford Rd. at 10:45 AM. \nRestrooms are available in the church. \nTrashcan by the check-in station at the Forest Hill Ave. entrance. \nBring water.
URL:https://chesterfieldgop.com/event/bon-air-historical-society-annual-victorian-day-parade/
LOCATION:Bon Air Baptist Church\, 2531 Buford Rd\, Richmond\, VA\, 23235\, United States
CATEGORIES:Parade
ATTACH;FMTTYPE=image/jpeg:https://chesterfieldgop.com/wp-content/uploads/2018/04/Depositphotos_147020591_original-WEB.jpg
END:VEVENT
BEGIN:VEVENT
DTSTART;TZID=America/New_York:20180510T190000
DTEND;TZID=America/New_York:20180510T203000
DTSTAMP:20260423T195705
CREATED:20180422T065322Z
LAST-MODIFIED:20250330T071507Z
UID:280-1525978800-1525984200@chesterfieldgop.com
SUMMARY:CCRC 10th of May Social
DESCRIPTION:  \nCCRC Diez de Mayo Social\nChesterfield County Republican Committee Social\n  \nThursday\, May 10\, 2018 \n7:00 PM \n \nEl Patron Cantina \n11211 Iron Bridge Rd \n Chester\, VA 23831 \nPlease RSVP \n 
URL:https://chesterfieldgop.com/event/ccrc-10th-of-may-social/
LOCATION:El Patron Cantina\, 11211 Iron Bridge Rd\, Chester\, VA\, 23831\, United States
CATEGORIES:Gathering
ATTACH;FMTTYPE=image/jpeg:https://chesterfieldgop.com/wp-content/uploads/2018/04/el-patron.jpg
END:VEVENT
BEGIN:VEVENT
DTSTART;TZID=America/New_York:20180430T190000
DTEND;TZID=America/New_York:20180430T203000
DTSTAMP:20260423T195705
CREATED:20180422T065948Z
LAST-MODIFIED:20250330T071508Z
UID:286-1525114800-1525120200@chesterfieldgop.com
SUMMARY:Regular Business Meeting - April 30th 2018
DESCRIPTION:Regular Business April Meeting\n  \nMonday\, April 30\, 2018 \n6:30 PM Reception\n7:00 PM Business Meeting \nManchester Middle School\n7401 Hull Street Road\nRichmond\, VA 23235
URL:https://chesterfieldgop.com/event/regular-business-meeting-april-30th-2018/
LOCATION:Manchester Middle School (7401 Hull Street Road)\, 7401 Hull Street Road\, Richmond\, VA\, 23235\, United States
CATEGORIES:Regular Meeting
ATTACH;FMTTYPE=image/jpeg:https://chesterfieldgop.com/wp-content/uploads/2018/04/manchester-middle-school.jpg
END:VEVENT
BEGIN:VEVENT
DTSTART;TZID=America/New_York:20180326T183000
DTEND;TZID=America/New_York:20180326T203000
DTSTAMP:20260423T195705
CREATED:20180306T060402Z
LAST-MODIFIED:20250330T071509Z
UID:269-1522089000-1522096200@chesterfieldgop.com
SUMMARY:CCRC Regular Meeting
DESCRIPTION:The CCRC will conduct its regular monthly meeting on March 26th. Social time starts at 6:30PM\, with meeting commencing at 7:00 PM.\n\n\nWe hope to see you there!
URL:https://chesterfieldgop.com/event/ccrc-regular-meeting-march-26th/
LOCATION:Chesterfield Career and Technical Center – Thomas R. Fulghum Conference Center\, 13900 Hull Street Rd\, Midlothian\, VA\, 23112\, United States
CATEGORIES:Regular Meeting
ATTACH;FMTTYPE=image/jpeg:https://chesterfieldgop.com/wp-content/uploads/2018/01/Fulghum-Center.jpg
END:VEVENT
BEGIN:VEVENT
DTSTART;TZID=America/New_York:20180316T180000
DTEND;TZID=America/New_York:20180316T180000
DTSTAMP:20260423T195705
CREATED:20180117T074126Z
LAST-MODIFIED:20250330T071510Z
UID:197-1521223200-1521223200@chesterfieldgop.com
SUMMARY:Irish Coffee with Huguenot Republican Women's Club
DESCRIPTION:
URL:https://chesterfieldgop.com/event/irish-coffee-with-huguenot-republican-womens-club/
LOCATION:Home of Bill Jefferson and Linda Frazer\, 3500 Walkers Ferry Rd\, Midlothian\, VA\, 23112\, United States
CATEGORIES:Gathering
ATTACH;FMTTYPE=image/jpeg:https://chesterfieldgop.com/wp-content/uploads/2018/01/Depositphotos_153457354_original-WEB.jpg
END:VEVENT
BEGIN:VEVENT
DTSTART;TZID=America/New_York:20180310T074500
DTEND;TZID=America/New_York:20180310T091500
DTSTAMP:20260423T195705
CREATED:20180306T061237Z
LAST-MODIFIED:20250330T071512Z
UID:272-1520667900-1520673300@chesterfieldgop.com
SUMMARY:CCRC Breakfast
DESCRIPTION:Guest Speakers Delegate Lee Ware and Senator Glen Sturtevant join the CCRC on Saturday\, March 10th.  Cost is $10/person.
URL:https://chesterfieldgop.com/event/ccrc-breakfast/
LOCATION:Cafe Caturra\, 13830 Village Place Dr\, Midlothian\, VA\, 23114\, United States
CATEGORIES:Gathering
ATTACH;FMTTYPE=image/jpeg:https://chesterfieldgop.com/wp-content/uploads/2018/03/CafeCaturra.jpg
END:VEVENT
BEGIN:VEVENT
DTSTART;TZID=America/New_York:20180129T183000
DTEND;TZID=America/New_York:20180129T203000
DTSTAMP:20260423T195705
CREATED:20180112T044221Z
LAST-MODIFIED:20180128T050211Z
UID:54-1517250600-1517257800@chesterfieldgop.com
SUMMARY:CCRC Regular Meeting
DESCRIPTION:
URL:https://chesterfieldgop.com/event/ccrc-regular-meeting/
LOCATION:Chesterfield Career and Technical Center – Thomas R. Fulghum Conference Center\, 13900 Hull Street Rd\, Midlothian\, VA\, 23112\, United States
CATEGORIES:Regular Meeting
ATTACH;FMTTYPE=image/jpeg:https://chesterfieldgop.com/wp-content/uploads/2018/01/Fulghum-Center.jpg
END:VEVENT
BEGIN:VEVENT
DTSTART;TZID=America/New_York:20180113T074500
DTEND;TZID=America/New_York:20180113T090000
DTSTAMP:20260423T195705
CREATED:20180111T065215Z
LAST-MODIFIED:20180111T065611Z
UID:26-1515829500-1515834000@chesterfieldgop.com
SUMMARY:CCRC January Breakfast
DESCRIPTION:CCRC January Breakfast\nJanuary 13th\nGuest Speaker \nDavid Poole \nExecutive Director of the Virginia Public Access Project (VPAP) \nCoffee and juice bar 7:45 am\nFood served at 8:00 am \n$15 (includes tip) \nClick Here to RSVP by 1/09
URL:https://chesterfieldgop.com/event/ccrc-january-breakfast/
LOCATION:Cafe Caturra\, 13830 Village Place Dr\, Midlothian\, VA\, 23114\, United States
ATTACH;FMTTYPE=image/jpeg:https://chesterfieldgop.com/wp-content/uploads/2018/01/David-Poole-VPAP.jpg
END:VEVENT
END:VCALENDAR