BEGIN:VCALENDAR
VERSION:2.0
PRODID:-//Chesterfield GOP - ECPv6.15.20//NONSGML v1.0//EN
CALSCALE:GREGORIAN
METHOD:PUBLISH
X-ORIGINAL-URL:https://chesterfieldgop.com
X-WR-CALDESC:Events for Chesterfield GOP
REFRESH-INTERVAL;VALUE=DURATION:PT1H
X-Robots-Tag:noindex
X-PUBLISHED-TTL:PT1H
BEGIN:VTIMEZONE
TZID:America/New_York
BEGIN:DAYLIGHT
TZOFFSETFROM:-0500
TZOFFSETTO:-0400
TZNAME:EDT
DTSTART:20240310T070000
END:DAYLIGHT
BEGIN:STANDARD
TZOFFSETFROM:-0400
TZOFFSETTO:-0500
TZNAME:EST
DTSTART:20241103T060000
END:STANDARD
BEGIN:DAYLIGHT
TZOFFSETFROM:-0500
TZOFFSETTO:-0400
TZNAME:EDT
DTSTART:20250309T070000
END:DAYLIGHT
BEGIN:STANDARD
TZOFFSETFROM:-0400
TZOFFSETTO:-0500
TZNAME:EST
DTSTART:20251102T060000
END:STANDARD
BEGIN:DAYLIGHT
TZOFFSETFROM:-0500
TZOFFSETTO:-0400
TZNAME:EDT
DTSTART:20260308T070000
END:DAYLIGHT
BEGIN:STANDARD
TZOFFSETFROM:-0400
TZOFFSETTO:-0500
TZNAME:EST
DTSTART:20261101T060000
END:STANDARD
BEGIN:DAYLIGHT
TZOFFSETFROM:-0500
TZOFFSETTO:-0400
TZNAME:EDT
DTSTART:20270314T070000
END:DAYLIGHT
BEGIN:STANDARD
TZOFFSETFROM:-0400
TZOFFSETTO:-0500
TZNAME:EST
DTSTART:20271107T060000
END:STANDARD
END:VTIMEZONE
BEGIN:VEVENT
DTSTART;TZID=America/New_York:20250825T180000
DTEND;TZID=America/New_York:20250825T200000
DTSTAMP:20260425T213919
CREATED:20250809T190800Z
LAST-MODIFIED:20250825T032224Z
UID:2250-1756144800-1756152000@chesterfieldgop.com
SUMMARY:Regular Business Meeting August 25th
DESCRIPTION:  \nPlease join us for our next regular business meeting on Monday August 25th\, 2025. Social hour and registration begins at 6PM\, with the regular meeting beginning at 7PM. \nFeatured speaker will be Matthew Cooley\, Election Integrity RNC Virginia Director. Daily Caller Story \nNote we are meeting at the Career and Technical Center – Hull Street Campus. \nAdditionally\, meeting proxy forms may be found within the “Resources” section by clicking the menu item at the top of the homepage. \n \n  \nDownload Official Call Document\n  \nDownload Intro Document with Links
URL:https://chesterfieldgop.com/event/regular-business-meeting-august-25th/
LOCATION:Chesterfield Career and Technical Center – Thomas R. Fulghum Conference Center\, 13900 Hull Street Rd\, Midlothian\, VA\, 23112\, United States
CATEGORIES:Regular Meeting
ATTACH;FMTTYPE=image/jpeg:https://chesterfieldgop.com/wp-content/uploads/2025/08/Regular-Business-Meeting-Featured-Image.jpg
END:VEVENT
BEGIN:VEVENT
DTSTART;TZID=America/New_York:20250922T180000
DTEND;TZID=America/New_York:20250922T200000
DTSTAMP:20260425T213919
CREATED:20250829T202052Z
LAST-MODIFIED:20250917T031422Z
UID:2331-1758564000-1758571200@chesterfieldgop.com
SUMMARY:Regular Business Meeting September 22nd
DESCRIPTION:Monday\, September 22nd\nSwift Creek Middle School\n3700 Old Hundred Road\, Midlothian\, VA 23112 \nSocial Hour & Registration: 6:00 pm\nBusiness meeting:  7:00 pm \n\n\nDownload Meeting Document
URL:https://chesterfieldgop.com/event/regular-business-meeting-september-22nd/
LOCATION:Swift Creek Middle School\, 3700 Old Hundred Rd\, Midlothian\, VA\, 23112\, United States
CATEGORIES:Regular Meeting
ATTACH;FMTTYPE=image/jpeg:https://chesterfieldgop.com/wp-content/uploads/2025/08/Regular-Business-Meeting-Featured-Image.jpg
END:VEVENT
BEGIN:VEVENT
DTSTART;TZID=America/New_York:20251027T180000
DTEND;TZID=America/New_York:20251027T200000
DTSTAMP:20260425T213919
CREATED:20250929T160938Z
LAST-MODIFIED:20251027T033925Z
UID:2418-1761588000-1761595200@chesterfieldgop.com
SUMMARY:Regular Business Meeting October 27th
DESCRIPTION:We will be conducting our next regular business meeting this Monday\, October 27th 2025. This will be our last regular meeting before election day! \nMeeting Document\n(Open the document for links)
URL:https://chesterfieldgop.com/event/regular-business-meeting-october-27th/
LOCATION:Swift Creek Middle School\, 3700 Old Hundred Rd\, Midlothian\, VA\, 23112\, United States
CATEGORIES:Regular Meeting
END:VEVENT
BEGIN:VEVENT
DTSTART;TZID=America/New_York:20251124T183000
DTEND;TZID=America/New_York:20251124T200000
DTSTAMP:20260425T213919
CREATED:20251106T202457Z
LAST-MODIFIED:20251124T223125Z
UID:2478-1764009000-1764014400@chesterfieldgop.com
SUMMARY:Regular Business Meeting 11-24-2025
DESCRIPTION:
URL:https://chesterfieldgop.com/event/regular-business-meeting-11-24-2025/
LOCATION:King’s Korner BBQ\, 7511 Airfield Dr\, Richmond\, VA\, 23237\, United States
CATEGORIES:Regular Meeting
ATTACH;FMTTYPE=image/jpeg:https://chesterfieldgop.com/wp-content/uploads/2025/08/Regular-Business-Meeting-Featured-Image.jpg
END:VEVENT
BEGIN:VEVENT
DTSTART;TZID=America/New_York:20260223T180000
DTEND;TZID=America/New_York:20260223T200000
DTSTAMP:20260425T213919
CREATED:20260202T170532Z
LAST-MODIFIED:20260215T233914Z
UID:2520-1771869600-1771876800@chesterfieldgop.com
SUMMARY:Regular Business Meeting 2-23-2026
DESCRIPTION:Our next regular meeting February 23rd. Same time\, same location. We’ll be meeting at the Swift Creek Middle School. \n\nWhen: Monday\, February 23rd\nWhere: Swift Creek Middle School\n3700 Old Hundred Road\, Midlothian\, VA 23112\n\nSocial Hour & Registration: 6:00 pm\nBusiness meeting: 7:00 pm \nWe hope to see you there! \nReview Meeting Document
URL:https://chesterfieldgop.com/event/regular-business-meeting-2-2-2026/
LOCATION:Swift Creek Middle School\, 3700 Old Hundred Rd\, Midlothian\, VA\, 23112\, United States
CATEGORIES:Regular Meeting
ATTACH;FMTTYPE=image/jpeg:https://chesterfieldgop.com/wp-content/uploads/2025/08/Regular-Business-Meeting-Featured-Image.jpg
END:VEVENT
BEGIN:VEVENT
DTSTART;TZID=America/New_York:20260323T180000
DTEND;TZID=America/New_York:20260323T200000
DTSTAMP:20260425T213919
CREATED:20260317T195924Z
LAST-MODIFIED:20260321T032754Z
UID:2802-1774288800-1774296000@chesterfieldgop.com
SUMMARY:Regular Business Meeting
DESCRIPTION:Join us for our next regular business meeting on March 23rd. Social hour begins at 6PM\, with the meeting beginning at 7PM. The meeting is again at Swift Creek Middle School\, with special guest speaker Republican Caucus Chair Scott Wyatt. We hope to see you there! \n\n 
URL:https://chesterfieldgop.com/event/regular-business-meeting/
LOCATION:Swift Creek Middle School\, 3700 Old Hundred Rd\, Midlothian\, VA\, 23112\, United States
CATEGORIES:Regular Meeting
ATTACH;FMTTYPE=image/jpeg:https://chesterfieldgop.com/wp-content/uploads/2025/08/Regular-Business-Meeting-Featured-Image.jpg
END:VEVENT
BEGIN:VEVENT
DTSTART;TZID=America/New_York:20260427T180000
DTEND;TZID=America/New_York:20260427T200000
DTSTAMP:20260425T213919
CREATED:20260409T234319Z
LAST-MODIFIED:20260409T234519Z
UID:2913-1777312800-1777320000@chesterfieldgop.com
SUMMARY:Regular Business Meeting - April 2026
DESCRIPTION:Our next regular meeting April 27th. Same time\, same location. We’ll be meeting at the Swift Creek Middle School. \n\nWhen: Monday\, April 27th\nWhere: Swift Creek Middle School\n3700 Old Hundred Road\, Midlothian\, VA 23112\n\nSocial Hour & Registration: 6:00 pm\nBusiness meeting: 7:00 pm \nWe hope to see you there!
URL:https://chesterfieldgop.com/event/regular-business-meeting-2/
LOCATION:Swift Creek Middle School\, 3700 Old Hundred Rd\, Midlothian\, VA\, 23112\, United States
CATEGORIES:Regular Meeting
ATTACH;FMTTYPE=image/jpeg:https://chesterfieldgop.com/wp-content/uploads/2025/08/Regular-Business-Meeting-Featured-Image.jpg
END:VEVENT
END:VCALENDAR