BEGIN:VCALENDAR
VERSION:2.0
PRODID:-//Chesterfield GOP - ECPv6.15.20//NONSGML v1.0//EN
CALSCALE:GREGORIAN
METHOD:PUBLISH
X-WR-CALNAME:Chesterfield GOP
X-ORIGINAL-URL:https://chesterfieldgop.com
X-WR-CALDESC:Events for Chesterfield GOP
REFRESH-INTERVAL;VALUE=DURATION:PT1H
X-Robots-Tag:noindex
X-PUBLISHED-TTL:PT1H
BEGIN:VTIMEZONE
TZID:America/New_York
BEGIN:DAYLIGHT
TZOFFSETFROM:-0500
TZOFFSETTO:-0400
TZNAME:EDT
DTSTART:20250309T070000
END:DAYLIGHT
BEGIN:STANDARD
TZOFFSETFROM:-0400
TZOFFSETTO:-0500
TZNAME:EST
DTSTART:20251102T060000
END:STANDARD
BEGIN:DAYLIGHT
TZOFFSETFROM:-0500
TZOFFSETTO:-0400
TZNAME:EDT
DTSTART:20260308T070000
END:DAYLIGHT
BEGIN:STANDARD
TZOFFSETFROM:-0400
TZOFFSETTO:-0500
TZNAME:EST
DTSTART:20261101T060000
END:STANDARD
BEGIN:DAYLIGHT
TZOFFSETFROM:-0500
TZOFFSETTO:-0400
TZNAME:EDT
DTSTART:20270314T070000
END:DAYLIGHT
BEGIN:STANDARD
TZOFFSETFROM:-0400
TZOFFSETTO:-0500
TZNAME:EST
DTSTART:20271107T060000
END:STANDARD
END:VTIMEZONE
BEGIN:VEVENT
DTSTART;TZID=America/New_York:20260421T060000
DTEND;TZID=America/New_York:20260421T190000
DTSTAMP:20260421T013541
CREATED:20260214T054036Z
LAST-MODIFIED:20260215T212553Z
UID:2628-1776751200-1776798000@chesterfieldgop.com
SUMMARY:Special Constitutional Amendment Vote
DESCRIPTION:April 21\, 2026 – Special Election\nProposed Constitutional Amendment on redistricting – Statewide \nDeadlines: \n\nRegister to Vote/Update Registration: 4/14/2026\nEarly in-person voting: 3/6/2026 through 4/18/2026\nApply for ballot to be mailed to you: through 4/10/2026\n\n\nEnabling Legislation\n\nRegister to vote or update an existing registration: \n\nThrough Tuesday\, April 14\, 2026.\nRegister to vote or update an existing registration online using the Citizen Portal.\nVoters may register and vote using a provisional ballot In-Person after April 14\, 2026\, through Election Day.\nContact your local registrar’s office for more information.\n\nEarly\, in-person voting period: \n\nStart Date Friday\, March 6\, 2026 through 5:00 p.m.\, Saturday\, April 18\, 2026.\nContact your local registrar’s office for all early voting and satellite location information.\nVoter registration offices will be open for early voting on Saturday\, April 11\, 2026.\n\nApply for a ballot to be mailed to you: \n\nThrough 5:00 p.m.\, Friday\, April 10\, 2026.\nYour request must be received by your local registrar’s office by 5:00 p.m.\nApply for an absentee ballot online using the Citizen Portal.
URL:https://chesterfieldgop.com/event/special-constitutional-amendment-vote/
LOCATION:Your Polling Location\, VA\, United States
CATEGORIES:Election
ATTACH;FMTTYPE=image/png:https://chesterfieldgop.com/wp-content/uploads/2026/02/vote.png
END:VEVENT
BEGIN:VEVENT
DTSTART;TZID=America/New_York:20260421T180000
DTEND;TZID=America/New_York:20260421T210000
DTSTAMP:20260421T013541
CREATED:20260416T023852Z
LAST-MODIFIED:20260417T024751Z
UID:2942-1776794400-1776805200@chesterfieldgop.com
SUMMARY:Redistricting Vote Watch Party
DESCRIPTION:Join us as we watch the returns for the vote on the redistricting referendum. You’ve worked hard; now come watch the result! We’ll meet at the Great American Ranch\, and Tuesday is 50% off cheeseburgers. \nJoining us are special guests RPV Chairman Jeff Ryer and LG candidate John Reid. Doors open at 6PM. Drop us an RSVP so we know you’re coming and for headcount. Hope to see you there! \nRSVP: \n\n\n                \n                        Name(Required)\n                            \n                            \n                                                    \n                                                    First\n                                                \n                            \n                            \n                                                    \n                                                    Last\n                                                \n                            \n                        Email(Required)\n                            \n                        Number Attending(Required)12345678910CAPTCHA
URL:https://chesterfieldgop.com/event/redistricting-vote-watch-party/
LOCATION:Great American Ranch\, 13995 Raised Antler Cir\, Midlothian\, VA\, 23112\, United States
CATEGORIES:Election,Gathering
ATTACH;FMTTYPE=image/jpeg:https://chesterfieldgop.com/wp-content/uploads/2026/04/Ranch-Watch-Party-2.jpg
END:VEVENT
END:VCALENDAR