BEGIN:VCALENDAR
VERSION:2.0
PRODID:-//Chesterfield GOP - ECPv6.15.20//NONSGML v1.0//EN
CALSCALE:GREGORIAN
METHOD:PUBLISH
X-WR-CALNAME:Chesterfield GOP
X-ORIGINAL-URL:https://chesterfieldgop.com
X-WR-CALDESC:Events for Chesterfield GOP
REFRESH-INTERVAL;VALUE=DURATION:PT1H
X-Robots-Tag:noindex
X-PUBLISHED-TTL:PT1H
BEGIN:VTIMEZONE
TZID:America/New_York
BEGIN:DAYLIGHT
TZOFFSETFROM:-0500
TZOFFSETTO:-0400
TZNAME:EDT
DTSTART:20250309T070000
END:DAYLIGHT
BEGIN:STANDARD
TZOFFSETFROM:-0400
TZOFFSETTO:-0500
TZNAME:EST
DTSTART:20251102T060000
END:STANDARD
BEGIN:DAYLIGHT
TZOFFSETFROM:-0500
TZOFFSETTO:-0400
TZNAME:EDT
DTSTART:20260308T070000
END:DAYLIGHT
BEGIN:STANDARD
TZOFFSETFROM:-0400
TZOFFSETTO:-0500
TZNAME:EST
DTSTART:20261101T060000
END:STANDARD
BEGIN:DAYLIGHT
TZOFFSETFROM:-0500
TZOFFSETTO:-0400
TZNAME:EDT
DTSTART:20270314T070000
END:DAYLIGHT
BEGIN:STANDARD
TZOFFSETFROM:-0400
TZOFFSETTO:-0500
TZNAME:EST
DTSTART:20271107T060000
END:STANDARD
END:VTIMEZONE
BEGIN:VEVENT
DTSTART;TZID=America/New_York:20260420T070000
DTEND;TZID=America/New_York:20260420T090000
DTSTAMP:20260420T013825
CREATED:20260417T032949Z
LAST-MODIFIED:20260417T033225Z
UID:2951-1776668400-1776675600@chesterfieldgop.com
SUMMARY:Get Out the Vote and Vote NO! Rally in Richmond
DESCRIPTION:Join us for an important rally in Richmond one day before the vote! Glenn Youngkin\, Jason Miyares\, and Rep. Rob Wittman will be in attendance. \nBe sure to RSVP! \nRSVP Now\n 
URL:https://chesterfieldgop.com/event/get-out-the-vote-and-vote-no-rally-in-richmond/
LOCATION:Shorty’s Diner\, 5625 West Broad St.\, Richmond\, VA\, 23230\, United States
ATTACH;FMTTYPE=image/jpeg:https://chesterfieldgop.com/wp-content/uploads/2026/04/Rally-Banner.jpg
END:VEVENT
END:VCALENDAR