BEGIN:VCALENDAR
VERSION:2.0
PRODID:-//Chesterfield GOP - ECPv6.15.20//NONSGML v1.0//EN
CALSCALE:GREGORIAN
METHOD:PUBLISH
X-WR-CALNAME:Chesterfield GOP
X-ORIGINAL-URL:https://chesterfieldgop.com
X-WR-CALDESC:Events for Chesterfield GOP
REFRESH-INTERVAL;VALUE=DURATION:PT1H
X-Robots-Tag:noindex
X-PUBLISHED-TTL:PT1H
BEGIN:VTIMEZONE
TZID:America/New_York
BEGIN:DAYLIGHT
TZOFFSETFROM:-0500
TZOFFSETTO:-0400
TZNAME:EDT
DTSTART:20170312T070000
END:DAYLIGHT
BEGIN:STANDARD
TZOFFSETFROM:-0400
TZOFFSETTO:-0500
TZNAME:EST
DTSTART:20171105T060000
END:STANDARD
BEGIN:DAYLIGHT
TZOFFSETFROM:-0500
TZOFFSETTO:-0400
TZNAME:EDT
DTSTART:20180311T070000
END:DAYLIGHT
BEGIN:STANDARD
TZOFFSETFROM:-0400
TZOFFSETTO:-0500
TZNAME:EST
DTSTART:20181104T060000
END:STANDARD
BEGIN:DAYLIGHT
TZOFFSETFROM:-0500
TZOFFSETTO:-0400
TZNAME:EDT
DTSTART:20190310T070000
END:DAYLIGHT
BEGIN:STANDARD
TZOFFSETFROM:-0400
TZOFFSETTO:-0500
TZNAME:EST
DTSTART:20191103T060000
END:STANDARD
END:VTIMEZONE
BEGIN:VEVENT
DTSTART;TZID=America/New_York:20181106T060000
DTEND;TZID=America/New_York:20181106T190000
DTSTAMP:20260423T135620
CREATED:20181019T161449Z
LAST-MODIFIED:20250330T071502Z
UID:347-1541484000-1541530800@chesterfieldgop.com
SUMMARY:Fall Election
DESCRIPTION:The election this fall will be on Tuesday\, November 6th. For information about voting\, or to see who/what is on your ballot\, visit the Virginia Department of Elections.
URL:https://chesterfieldgop.com/event/fall-election/
LOCATION:Your Polling Location\, VA\, United States
CATEGORIES:Election
ATTACH;FMTTYPE=image/jpeg:https://chesterfieldgop.com/wp-content/uploads/2018/10/Fotolia_88935401_S.jpg
END:VEVENT
END:VCALENDAR