BEGIN:VCALENDAR
VERSION:2.0
PRODID:-//Chesterfield GOP - ECPv6.15.20//NONSGML v1.0//EN
CALSCALE:GREGORIAN
METHOD:PUBLISH
X-WR-CALNAME:Chesterfield GOP
X-ORIGINAL-URL:https://chesterfieldgop.com
X-WR-CALDESC:Events for Chesterfield GOP
REFRESH-INTERVAL;VALUE=DURATION:PT1H
X-Robots-Tag:noindex
X-PUBLISHED-TTL:PT1H
BEGIN:VTIMEZONE
TZID:America/New_York
BEGIN:DAYLIGHT
TZOFFSETFROM:-0500
TZOFFSETTO:-0400
TZNAME:EDT
DTSTART:20170312T070000
END:DAYLIGHT
BEGIN:STANDARD
TZOFFSETFROM:-0400
TZOFFSETTO:-0500
TZNAME:EST
DTSTART:20171105T060000
END:STANDARD
BEGIN:DAYLIGHT
TZOFFSETFROM:-0500
TZOFFSETTO:-0400
TZNAME:EDT
DTSTART:20180311T070000
END:DAYLIGHT
BEGIN:STANDARD
TZOFFSETFROM:-0400
TZOFFSETTO:-0500
TZNAME:EST
DTSTART:20181104T060000
END:STANDARD
BEGIN:DAYLIGHT
TZOFFSETFROM:-0500
TZOFFSETTO:-0400
TZNAME:EDT
DTSTART:20190310T070000
END:DAYLIGHT
BEGIN:STANDARD
TZOFFSETFROM:-0400
TZOFFSETTO:-0500
TZNAME:EST
DTSTART:20191103T060000
END:STANDARD
END:VTIMEZONE
BEGIN:VEVENT
DTSTART;TZID=America/New_York:20180510T190000
DTEND;TZID=America/New_York:20180510T203000
DTSTAMP:20260423T223042
CREATED:20180422T065322Z
LAST-MODIFIED:20250330T071507Z
UID:280-1525978800-1525984200@chesterfieldgop.com
SUMMARY:CCRC 10th of May Social
DESCRIPTION:  \nCCRC Diez de Mayo Social\nChesterfield County Republican Committee Social\n  \nThursday\, May 10\, 2018 \n7:00 PM \n \nEl Patron Cantina \n11211 Iron Bridge Rd \n Chester\, VA 23831 \nPlease RSVP \n 
URL:https://chesterfieldgop.com/event/ccrc-10th-of-may-social/
LOCATION:El Patron Cantina\, 11211 Iron Bridge Rd\, Chester\, VA\, 23831\, United States
CATEGORIES:Gathering
ATTACH;FMTTYPE=image/jpeg:https://chesterfieldgop.com/wp-content/uploads/2018/04/el-patron.jpg
END:VEVENT
END:VCALENDAR